{"text_format":"1","workbook":"xlsx","n_sheets":3,"sheets":["Expense List","Detail List","Print"],"not_rendered":{"charts":0,"images":0,"macros":1,"external_links":1,"defined_names":4,"comments":1,"pivot_tables":0},"unopened":[],"bounds":{"document_bytes":16777216,"sheet_cells":100000,"rows_first":2000,"rows_last":500,"rows_between":2000,"halvings":0,"cell_chars":16384,"cell_head_chars":4096},"cells_cut":0,"cells_raw":0,"read":"whole","date_system":"1900"}

{"sheet":"Expense List","index":0,"n_rows":31,"n_cols":2,"rows_kept":31,"cut":false,"hidden":false,"merged":[]}
["Authorized Expenses","General Ledger Code"]
["Advertising - Media",1001]
["Advertising - Promotional",1002]
["Car Rental",1003]
["Cell Phone Expenses",1004]
["Computer Supplies",1005]
["Consulting",1006]
["Dues & Subscription",1007]
["Employee Benefits",1008]
["Employee Moving",1009]
["Employee Training",1010]
["Entertainment",1011]
["Freight In",1012]
["Freight Out",1013]
["Gas & Oil",1014]
["Internet",1015]
["Meal with Client",1016]
["Meal with Vendor",1017]
["Mileage",1018]
["Miscellaneous",1019]
["Postage",1020]
["Supplies",1021]
["Telephone",1022]
["Tolls",1023]
["Travel Expense",1024]
["Vehicle Maint & Repair",1025]
[" "," "]
[" "," "]
[" "," "]
[" "," "]
[" "," "]

{"sheet":"Detail List","index":1,"n_rows":47,"n_cols":8,"rows_kept":47,"cut":false,"hidden":false,"merged":[[5,2,5,3],[7,2,7,3],[4,2,4,3]]}
[]
[]
[]
[]
[null,"Name ","Enter Your Name"]
[null,"Department","Enter Your Department Name"]
[null,"Date   "," ","<-- Enter the Week Ending Sunday MM:DD:YY"]
[]
[null,"Date/Location","Type","Place  -   Company   -   Persons   -   Business","Amount"]
[null,"Monday",null,null,null,null,null," "]
[null,{"$f":"B47-6","v":{"$error":"#VALUE!"}}]
[]
[]
[]
[]
[null,"Tuesday"]
[null,{"$f":"B47-5","v":{"$error":"#VALUE!"}}]
[]
[]
[]
[]
[null,"Wednesday"]
[null,{"$f":"B47-4","v":{"$error":"#VALUE!"}}]
[]
[]
[]
[]
[null,"Thursday"]
[null,{"$f":"B47-3","v":{"$error":"#VALUE!"}}]
[]
[]
[]
[]
[null,"Friday"]
[null,{"$f":"B47-2","v":{"$error":"#VALUE!"}}]
[]
[]
[]
[]
[null,"Saturday"]
[null,{"$f":"B47-1","v":{"$error":"#VALUE!"}}]
[]
[]
[]
[]
[null,"Sunday"]
[null,{"$f":"C7","v":" "}]

{"sheet":"Print","index":2,"n_rows":61,"n_cols":7,"rows_kept":61,"cut":false,"hidden":false,"merged":[[55,5,55,6],[57,5,57,6],[59,5,59,6],[0,1,0,3],[43,5,43,6],[45,5,45,6],[47,5,47,6],[49,5,49,6],[51,5,51,6],[53,5,53,6],[31,5,31,6],[33,5,33,6],[35,5,35,6],[37,5,37,6],[39,5,39,6],[41,5,41,6],[1,5,1,6],[0,5,0,6],[3,5,3,6],[5,5,5,6],[29,5,29,6],[7,5,7,6],[9,5,9,6],[11,5,11,6],[13,5,13,6],[15,5,15,6],[17,5,17,6],[19,5,19,6],[21,5,21,6],[23,5,23,6],[25,5,25,6],[27,5,27,6]]}
[null,"Businsess Expense Reimbursement Request",null,null,null,"General Ledger Summary"]
[null,null,null,null,null,{"$f":"'Expense List'!A2","v":"Advertising - Media"}]
[null,{"$f":"'Detail List'!B5","v":"Name "},{"$f":"'Detail List'!C5","v":"Enter Your Name"},null,null,{"$f":"'Expense List'!B2","v":1001},{"$f":"SUMIF('Detail List'!$C$10:$C$51,'Expense List'!A2,'Detail List'!$E$10:$E$51)","v":0}]
[null,{"$f":"'Detail List'!B6","v":"Department"},{"$f":"'Detail List'!C6","v":"Enter Your Department Name"},null," ",{"$f":"'Expense List'!A3","v":"Advertising - Promotional"}]
[null,"Week Ending  ",{"$f":"'Detail List'!C7","v":" "},null,null,{"$f":"'Expense List'!B3","v":1002},{"$f":"SUMIF('Detail List'!$C$10:$C$51,'Expense List'!A3,'Detail List'!$E$10:$E$51)","v":0}]
[null,"Date ","Place  -   Company   -   Persons   -   Business","Amount",null,{"$f":"'Expense List'!A4","v":"Car Rental"}]
[null,{"$f":"'Detail List'!B10","v":"Monday"},{"$f":"'Detail List'!D10","v":0},{"$f":"'Detail List'!E10","v":0},null,{"$f":"'Expense List'!B4","v":1003},{"$f":"SUMIF('Detail List'!$C$10:$C$51,'Expense List'!A4,'Detail List'!$E$10:$E$51)","v":0}]
[null,{"$f":"'Detail List'!B11","v":{"$error":"#VALUE!"}},{"$f":"'Detail List'!D11","v":0},{"$f":"'Detail List'!E11","v":0},null,{"$f":"'Expense List'!A5","v":"Cell Phone Expenses"}]
[null,{"$f":"'Detail List'!B12","v":0},{"$f":"'Detail List'!D12","v":0},{"$f":"'Detail List'!E12","v":0},null,{"$f":"'Expense List'!B5","v":1004},{"$f":"SUMIF('Detail List'!$C$10:$C$51,'Expense List'!A5,'Detail List'!$E$10:$E$51)","v":0}]
[null,{"$f":"'Detail List'!B13","v":0},{"$f":"'Detail List'!D13","v":0},{"$f":"'Detail List'!E13","v":0},null,{"$f":"'Expense List'!A6","v":"Computer Supplies"}]
[null,{"$f":"'Detail List'!B14","v":0},{"$f":"'Detail List'!D14","v":0},{"$f":"'Detail List'!E14","v":0},null,{"$f":"'Expense List'!B6","v":1005},{"$f":"SUMIF('Detail List'!$C$10:$C$51,'Expense List'!A6,'Detail List'!$E$10:$E$51)","v":0}]
[null,{"$f":"'Detail List'!B15","v":0},{"$f":"'Detail List'!D15","v":0},{"$f":"'Detail List'!E15","v":0},null,{"$f":"'Expense List'!A7","v":"Consulting"}]
[null,{"$f":"'Detail List'!B16","v":"Tuesday"},{"$f":"'Detail List'!D16","v":0},{"$f":"'Detail List'!E16","v":0},null,{"$f":"'Expense List'!B7","v":1006},{"$f":"SUMIF('Detail List'!$C$10:$C$51,'Expense List'!A7,'Detail List'!$E$10:$E$51)","v":0}]
[null,{"$f":"'Detail List'!B17","v":{"$error":"#VALUE!"}},{"$f":"'Detail List'!D17","v":0},{"$f":"'Detail List'!E17","v":0},null,{"$f":"'Expense List'!A8","v":"Dues & Subscription"}]
[null,{"$f":"'Detail List'!B18","v":0},{"$f":"'Detail List'!D18","v":0},{"$f":"'Detail List'!E18","v":0},null,{"$f":"'Expense List'!B8","v":1007},{"$f":"SUMIF('Detail List'!$C$10:$C$51,'Expense List'!A8,'Detail List'!$E$10:$E$51)","v":0}]
[null,{"$f":"'Detail List'!B19","v":0},{"$f":"'Detail List'!D19","v":0},{"$f":"'Detail List'!E19","v":0},null,{"$f":"'Expense List'!A9","v":"Employee Benefits"}]
[null,{"$f":"'Detail List'!B20","v":0},{"$f":"'Detail List'!D20","v":0},{"$f":"'Detail List'!E20","v":0},null,{"$f":"'Expense List'!B9","v":1008},{"$f":"SUMIF('Detail List'!$C$10:$C$51,'Expense List'!A9,'Detail List'!$E$10:$E$51)","v":0}]
[null,{"$f":"'Detail List'!B21","v":0},{"$f":"'Detail List'!D21","v":0},{"$f":"'Detail List'!E21","v":0},null,{"$f":"'Expense List'!A10","v":"Employee Moving"}]
[null,{"$f":"'Detail List'!B22","v":"Wednesday"},{"$f":"'Detail List'!D22","v":0},{"$f":"'Detail List'!E22","v":0},null,{"$f":"'Expense List'!B10","v":1009},{"$f":"SUMIF('Detail List'!$C$10:$C$51,'Expense List'!A10,'Detail List'!$E$10:$E$51)","v":0}]
[null,{"$f":"'Detail List'!B23","v":{"$error":"#VALUE!"}},{"$f":"'Detail List'!D23","v":0},{"$f":"'Detail List'!E23","v":0},null,{"$f":"'Expense List'!A11","v":"Employee Training"}]
[null,{"$f":"'Detail List'!B24","v":0},{"$f":"'Detail List'!D24","v":0},{"$f":"'Detail List'!E24","v":0},null,{"$f":"'Expense List'!B11","v":1010},{"$f":"SUMIF('Detail List'!$C$10:$C$51,'Expense List'!A11,'Detail List'!$E$10:$E$51)","v":0}]
[null,{"$f":"'Detail List'!B25","v":0},{"$f":"'Detail List'!D25","v":0},{"$f":"'Detail List'!E25","v":0},null,{"$f":"'Expense List'!A12","v":"Entertainment"}]
[null,{"$f":"'Detail List'!B26","v":0},{"$f":"'Detail List'!D26","v":0},{"$f":"'Detail List'!E26","v":0},null,{"$f":"'Expense List'!B12","v":1011},{"$f":"SUMIF('Detail List'!$C$10:$C$51,'Expense List'!A12,'Detail List'!$E$10:$E$51)","v":0}]
[null,{"$f":"'Detail List'!B27","v":0},{"$f":"'Detail List'!D27","v":0},{"$f":"'Detail List'!E27","v":0},null,{"$f":"'Expense List'!A13","v":"Freight In"}]
[null,{"$f":"'Detail List'!B28","v":"Thursday"},{"$f":"'Detail List'!D28","v":0},{"$f":"'Detail List'!E28","v":0},null,{"$f":"'Expense List'!B13","v":1012},{"$f":"SUMIF('Detail List'!$C$10:$C$51,'Expense List'!A13,'Detail List'!$E$10:$E$51)","v":0}]
[null,{"$f":"'Detail List'!B29","v":{"$error":"#VALUE!"}},{"$f":"'Detail List'!D29","v":0},{"$f":"'Detail List'!E29","v":0},null,{"$f":"'Expense List'!A14","v":"Freight Out"}]
[null,{"$f":"'Detail List'!B30","v":0},{"$f":"'Detail List'!D30","v":0},{"$f":"'Detail List'!E30","v":0},null,{"$f":"'Expense List'!B14","v":1013},{"$f":"SUMIF('Detail List'!$C$10:$C$51,'Expense List'!A14,'Detail List'!$E$10:$E$51)","v":0}]
[null,{"$f":"'Detail List'!B31","v":0},{"$f":"'Detail List'!D31","v":0},{"$f":"'Detail List'!E31","v":0},null,{"$f":"'Expense List'!A15","v":"Gas & Oil"}]
[null,{"$f":"'Detail List'!B32","v":0},{"$f":"'Detail List'!D32","v":0},{"$f":"'Detail List'!E32","v":0},null,{"$f":"'Expense List'!B15","v":1014},{"$f":"SUMIF('Detail List'!$C$10:$C$51,'Expense List'!A15,'Detail List'!$E$10:$E$51)","v":0}]
[null,{"$f":"'Detail List'!B33","v":0},{"$f":"'Detail List'!D33","v":0},{"$f":"'Detail List'!E33","v":0},null,{"$f":"'Expense List'!A16","v":"Internet"}]
[null,{"$f":"'Detail List'!B34","v":"Friday"},{"$f":"'Detail List'!D34","v":0},{"$f":"'Detail List'!E34","v":0},null,{"$f":"'Expense List'!B16","v":1015},{"$f":"SUMIF('Detail List'!$C$10:$C$51,'Expense List'!A16,'Detail List'!$E$10:$E$51)","v":0}]
[null,{"$f":"'Detail List'!B35","v":{"$error":"#VALUE!"}},{"$f":"'Detail List'!D35","v":0},{"$f":"'Detail List'!E35","v":0},null,{"$f":"'Expense List'!A17","v":"Meal with Client"}]
[null,{"$f":"'Detail List'!B36","v":0},{"$f":"'Detail List'!D36","v":0},{"$f":"'Detail List'!E36","v":0},null,{"$f":"'Expense List'!B17","v":1016},{"$f":"SUMIF('Detail List'!$C$10:$C$51,'Expense List'!A17,'Detail List'!$E$10:$E$51)","v":0}]
[null,{"$f":"'Detail List'!B37","v":0},{"$f":"'Detail List'!D37","v":0},{"$f":"'Detail List'!E37","v":0},null,{"$f":"'Expense List'!A18","v":"Meal with Vendor"}]
[null,{"$f":"'Detail List'!B38","v":0},{"$f":"'Detail List'!D38","v":0},{"$f":"'Detail List'!E38","v":0},null,{"$f":"'Expense List'!B18","v":1017},{"$f":"SUMIF('Detail List'!$C$10:$C$51,'Expense List'!A18,'Detail List'!$E$10:$E$51)","v":0}]
[null,{"$f":"'Detail List'!B39","v":0},{"$f":"'Detail List'!D39","v":0},{"$f":"'Detail List'!E39","v":0},null,{"$f":"'Expense List'!A19","v":"Mileage"}]
[null,{"$f":"'Detail List'!B40","v":"Saturday"},{"$f":"'Detail List'!D40","v":0},{"$f":"'Detail List'!E40","v":0},null,{"$f":"'Expense List'!B19","v":1018},{"$f":"SUMIF('Detail List'!$C$10:$C$51,'Expense List'!A19,'Detail List'!$E$10:$E$51)","v":0}]
[null,{"$f":"'Detail List'!B41","v":{"$error":"#VALUE!"}},{"$f":"'Detail List'!D41","v":0},{"$f":"'Detail List'!E41","v":0},null,{"$f":"'Expense List'!A20","v":"Miscellaneous"}]
[null,{"$f":"'Detail List'!B42","v":0},{"$f":"'Detail List'!D42","v":0},{"$f":"'Detail List'!E42","v":0},null,{"$f":"'Expense List'!B20","v":1019},{"$f":"SUMIF('Detail List'!$C$10:$C$51,'Expense List'!A20,'Detail List'!$E$10:$E$51)","v":0}]
[null,{"$f":"'Detail List'!B43","v":0},{"$f":"'Detail List'!D43","v":0},{"$f":"'Detail List'!E43","v":0},null,{"$f":"'Expense List'!A21","v":"Postage"}]
[null,{"$f":"'Detail List'!B44","v":0},{"$f":"'Detail List'!D44","v":0},{"$f":"'Detail List'!E44","v":0},null,{"$f":"'Expense List'!B21","v":1020},{"$f":"SUMIF('Detail List'!$C$10:$C$51,'Expense List'!A21,'Detail List'!$E$10:$E$51)","v":0}]
[null,{"$f":"'Detail List'!B45","v":0},{"$f":"'Detail List'!D45","v":0},{"$f":"'Detail List'!E45","v":0},null,{"$f":"'Expense List'!A22","v":"Supplies"}]
[null,{"$f":"'Detail List'!B46","v":"Sunday"},{"$f":"'Detail List'!D46","v":0},{"$f":"'Detail List'!E46","v":0},null,{"$f":"'Expense List'!B22","v":1021},{"$f":"SUMIF('Detail List'!$C$10:$C$51,'Expense List'!A22,'Detail List'!$E$10:$E$51)","v":0}]
[null,{"$f":"'Detail List'!B47","v":" "},{"$f":"'Detail List'!D47","v":0},{"$f":"'Detail List'!E47","v":0},null,{"$f":"'Expense List'!A23","v":"Telephone"}]
[null,{"$f":"'Detail List'!B48","v":0},{"$f":"'Detail List'!D48","v":0},{"$f":"'Detail List'!E48","v":0},null,{"$f":"'Expense List'!B23","v":1022},{"$f":"SUMIF('Detail List'!$C$10:$C$51,'Expense List'!A23,'Detail List'!$E$10:$E$51)","v":0}]
[null,{"$f":"'Detail List'!B49","v":0},{"$f":"'Detail List'!D49","v":0},{"$f":"'Detail List'!E49","v":0},null,{"$f":"'Expense List'!A24","v":"Tolls"}]
[null,{"$f":"'Detail List'!B50","v":0},{"$f":"'Detail List'!D50","v":0},{"$f":"'Detail List'!E50","v":0},null,{"$f":"'Expense List'!B24","v":1023},{"$f":"SUMIF('Detail List'!$C$10:$C$51,'Expense List'!A24,'Detail List'!$E$10:$E$51)","v":0}]
[null,{"$f":"'Detail List'!B51","v":0},{"$f":"'Detail List'!D51","v":0},{"$f":"'Detail List'!E51","v":0},null,{"$f":"'Expense List'!A25","v":"Travel Expense"}]
[null,null,null,null,null,{"$f":"'Expense List'!B25","v":1024},{"$f":"SUMIF('Detail List'!$C$10:$C$51,'Expense List'!A25,'Detail List'!$E$10:$E$51)","v":0}]
[null,null,null,null,null,{"$f":"'Expense List'!A26","v":"Vehicle Maint & Repair"}]
[null,null,null,null,null,{"$f":"'Expense List'!B26","v":1025},{"$f":"SUMIF('Detail List'!$C$10:$C$51,'Expense List'!A26,'Detail List'!$E$10:$E$51)","v":0}]
[null,null,null,null,null,{"$f":"'Expense List'!A27","v":" "}]
[null,null,null,null,null,{"$f":"'Expense List'!B27","v":" "},{"$f":"SUMIF('Detail List'!$C$10:$C$51,'Expense List'!A27,'Detail List'!$E$10:$E$51)","v":0}]
[null,null,null,null,null,{"$f":"'Expense List'!A28","v":" "}]
[null,null,null,null,null,{"$f":"'Expense List'!B28","v":" "},{"$f":"SUMIF('Detail List'!$C$10:$C$51,'Expense List'!A28,'Detail List'!$E$10:$E$51)","v":0}]
[null,null,null,{"$f":"SUM(D6:D48)","v":0},null,{"$f":"'Expense List'!A29","v":" "}]
[null,null,null,null,null,{"$f":"'Expense List'!B29","v":" "},{"$f":"SUMIF('Detail List'!$C$10:$C$51,'Expense List'!A29,'Detail List'!$E$10:$E$51)","v":0}]
[null,null,null,null,null,{"$f":"'Expense List'!A30","v":" "}]
[null,null,null,null,null,{"$f":"'Expense List'!B30","v":" "},{"$f":"SUMIF('Detail List'!$C$10:$C$51,'Expense List'!A30,'Detail List'!$E$10:$E$51)","v":0}]
[null,null,null,null,null,{"$f":"'Expense List'!A31","v":" "}]
[null,null,null,null,null,{"$f":"'Expense List'!B31","v":" "},{"$f":"SUMIF('Detail List'!$C$10:$C$51,'Expense List'!A31,'Detail List'!$E$10:$E$51)","v":0}]